BEGIN:VCALENDAR
VERSION:2.0
PRODID:-//Squarespace Inc/Squarespace 6//v6//EN
BEGIN:VEVENT
UID:5420eb43e4b05046224cab22@squarespace.com
DTSTAMP:20140925T225226Z
DTSTART:20150115T050000Z
DTEND:20150116T045900Z
SUMMARY:NZ: Second Installment of Provisional Tax Due
END:VEVENT
END:VCALENDAR
