BEGIN:VCALENDAR
VERSION:2.0
PRODID:-//Squarespace Inc/Squarespace 6//v6//EN
BEGIN:VEVENT
UID:5420ee7be4b09194f76b653b@squarespace.com
DTSTAMP:20140925T224924Z
DTSTART:20151031T040000Z
DTEND:20151101T040000Z
SUMMARY:UK: Self Assessment Tax Return Due
END:VEVENT
END:VCALENDAR
