BEGIN:VCALENDAR
VERSION:2.0
PRODID:-//Squarespace Inc/Squarespace 6//v6//EN
BEGIN:VEVENT
UID:5420eefbe4b09a2902bdff24@squarespace.com
DTSTAMP:20140929T205132Z
DTSTART:20150131T050000Z
DTEND:20150131T165900Z
SUMMARY:UK: Self Assessment Submissions Due
END:VEVENT
END:VCALENDAR
