BEGIN:VCALENDAR
VERSION:2.0
PRODID:-//Squarespace Inc/Squarespace 6//v6//EN
BEGIN:VEVENT
UID:5420ed3ae4b0ff88564a7e67@squarespace.com
DTSTAMP:20140929T205604Z
DTSTART:20150407T040000Z
DTEND:20150407T155900Z
SUMMARY:NZ: Terminal Tax Due
END:VEVENT
END:VCALENDAR
