BEGIN:VCALENDAR
VERSION:2.0
PRODID:-//Squarespace Inc/Squarespace 6//v6//EN
BEGIN:VEVENT
UID:5429c773e4b02eeeddb9b2ff@squarespace.com
DTSTAMP:20140929T210341Z
DTSTART:20150507T040000Z
DTEND:20150508T035900Z
SUMMARY:NZ: Third Installment of Provisional Tax Due
END:VEVENT
END:VCALENDAR
