BEGIN:VCALENDAR
VERSION:2.0
PRODID:-//Squarespace Inc/Squarespace 6//v6//EN
BEGIN:VEVENT
UID:5429cacae4b08658bc7a9d6f@squarespace.com
DTSTAMP:20140929T211417Z
DTSTART:20150131T050000Z
DTEND:20150201T045900Z
SUMMARY:UK: Self Assessment Tax Return Due
END:VEVENT
END:VCALENDAR
