BEGIN:VCALENDAR
VERSION:2.0
PRODID:-//Squarespace Inc/Squarespace 6//v6//EN
BEGIN:VEVENT
UID:5429c666e4b054f129c30243@squarespace.com
DTSTAMP:20140929T211938Z
DTSTART:20150331T040000Z
DTEND:20150401T035900Z
SUMMARY:NZ: Final Income Tax Return Due
END:VEVENT
END:VCALENDAR
