BEGIN:VCALENDAR
VERSION:2.0
PRODID:-//Squarespace Inc/Squarespace 6//v6//EN
BEGIN:VEVENT
UID:5429c6ffe4b0537914a214ff@squarespace.com
DTSTAMP:20140929T211809Z
DTSTART:20150407T040000Z
DTEND:20150408T035900Z
SUMMARY:NZ Terminal Tax Due
END:VEVENT
END:VCALENDAR
