BEGIN:VCALENDAR
VERSION:2.0
PRODID:-//Squarespace Inc/Squarespace 6//v6//EN
BEGIN:VEVENT
UID:5429c994e4b0102542248e2a@squarespace.com
DTSTAMP:20140929T210752Z
DTSTART:20150731T040000Z
DTEND:20150731T155900Z
SUMMARY:UK: Second Self Assessment Payment Due
END:VEVENT
END:VCALENDAR
