BEGIN:VCALENDAR
VERSION:2.0
PRODID:-//Squarespace Inc/Squarespace 6//v6//EN
BEGIN:VEVENT
UID:5429ca3fe4b0f65675dde91a@squarespace.com
DTSTAMP:20141112T001506Z
DTSTART:20150828T040000Z
DTEND:20150829T035900Z
SUMMARY:NZ: First Installment of Provisional Tax Due
END:VEVENT
END:VCALENDAR
